BEGIN:VCALENDAR
VERSION:2.0
PRODID:-//Challenge Terre de Mistral - ECPv6.2.9//NONSGML v1.0//EN
CALSCALE:GREGORIAN
METHOD:PUBLISH
X-WR-CALNAME:Challenge Terre de Mistral
X-ORIGINAL-URL:https://www.challengeterredemistral.fr
X-WR-CALDESC:évènements pour Challenge Terre de Mistral
REFRESH-INTERVAL;VALUE=DURATION:PT1H
X-Robots-Tag:noindex
X-PUBLISHED-TTL:PT1H
BEGIN:VTIMEZONE
TZID:Europe/Paris
BEGIN:DAYLIGHT
TZOFFSETFROM:+0100
TZOFFSETTO:+0200
TZNAME:CEST
DTSTART:20260329T010000
END:DAYLIGHT
BEGIN:STANDARD
TZOFFSETFROM:+0200
TZOFFSETTO:+0100
TZNAME:CET
DTSTART:20261025T010000
END:STANDARD
END:VTIMEZONE
BEGIN:VEVENT
DTSTART;VALUE=DATE:20260301
DTEND;VALUE=DATE:20260302
DTSTAMP:20260420T150824
CREATED:20240119T105311Z
LAST-MODIFIED:20260224T142951Z
UID:919-1772323200-1772409599@www.challengeterredemistral.fr
SUMMARY:Les chemins Sainte-Rosalie
DESCRIPTION:
URL:https://www.challengeterredemistral.fr/calendrier/les-chemins-sainte-rosalie/
LOCATION:Les chemins Sainte-Rosalie\, Chemin de Sainte-Rosalie\, La Fare-les-Oliviers\, Bouches-du-Rhône\, 13580\, France
END:VEVENT
END:VCALENDAR