BEGIN:VCALENDAR
VERSION:2.0
PRODID:-//Challenge Terre de Mistral - ECPv6.2.9//NONSGML v1.0//EN
CALSCALE:GREGORIAN
METHOD:PUBLISH
X-WR-CALNAME:Challenge Terre de Mistral
X-ORIGINAL-URL:https://www.challengeterredemistral.fr
X-WR-CALDESC:évènements pour Challenge Terre de Mistral
REFRESH-INTERVAL;VALUE=DURATION:PT1H
X-Robots-Tag:noindex
X-PUBLISHED-TTL:PT1H
BEGIN:VTIMEZONE
TZID:Europe/Paris
BEGIN:DAYLIGHT
TZOFFSETFROM:+0100
TZOFFSETTO:+0200
TZNAME:CEST
DTSTART:20260329T010000
END:DAYLIGHT
BEGIN:STANDARD
TZOFFSETFROM:+0200
TZOFFSETTO:+0100
TZNAME:CET
DTSTART:20261025T010000
END:STANDARD
END:VTIMEZONE
BEGIN:VEVENT
DTSTART;VALUE=DATE:20260607
DTEND;VALUE=DATE:20260608
DTSTAMP:20260420T181649
CREATED:20240119T115316Z
LAST-MODIFIED:20251223T103929Z
UID:931-1780790400-1780876799@www.challengeterredemistral.fr
SUMMARY:Le Bol d'Air Barbenais
DESCRIPTION:
URL:https://www.challengeterredemistral.fr/calendrier/le-bol-dair-barbenais/
LOCATION:Bol d’air barbenais\, La Barben\, La Barben\, Bouches-du-Rhône\, 13330\, France
END:VEVENT
END:VCALENDAR