BEGIN:VCALENDAR
VERSION:2.0
PRODID:-//Challenge Terre de Mistral - ECPv6.2.9//NONSGML v1.0//EN
CALSCALE:GREGORIAN
METHOD:PUBLISH
X-WR-CALNAME:Challenge Terre de Mistral
X-ORIGINAL-URL:https://www.challengeterredemistral.fr
X-WR-CALDESC:évènements pour Challenge Terre de Mistral
REFRESH-INTERVAL;VALUE=DURATION:PT1H
X-Robots-Tag:noindex
X-PUBLISHED-TTL:PT1H
BEGIN:VTIMEZONE
TZID:Europe/Paris
BEGIN:DAYLIGHT
TZOFFSETFROM:+0100
TZOFFSETTO:+0200
TZNAME:CEST
DTSTART:20260329T010000
END:DAYLIGHT
BEGIN:STANDARD
TZOFFSETFROM:+0200
TZOFFSETTO:+0100
TZNAME:CET
DTSTART:20261025T010000
END:STANDARD
END:VTIMEZONE
BEGIN:VEVENT
DTSTART;TZID=Europe/Paris:20260517T080000
DTEND;TZID=Europe/Paris:20260517T170000
DTSTAMP:20260420T150909
CREATED:20250210T190751Z
LAST-MODIFIED:20251223T103852Z
UID:1802-1779004800-1779037200@www.challengeterredemistral.fr
SUMMARY:À l'assaut du Talagard
DESCRIPTION:
URL:https://www.challengeterredemistral.fr/calendrier/a-lassaut-du-talagard/
END:VEVENT
BEGIN:VEVENT
DTSTART;TZID=Europe/Paris:20260530T080000
DTEND;TZID=Europe/Paris:20260530T170000
DTSTAMP:20260420T150909
CREATED:20250210T190702Z
LAST-MODIFIED:20251223T103913Z
UID:1800-1780128000-1780160400@www.challengeterredemistral.fr
SUMMARY:Les boucles Roccasières
DESCRIPTION:
URL:https://www.challengeterredemistral.fr/calendrier/les-boucles-roccasieres/
END:VEVENT
END:VCALENDAR